BEGIN:VCALENDAR
VERSION:2.0
PRODID:-//DOH Pharmaceutical Division - ECPv5.3.0//NONSGML v1.0//EN
CALSCALE:GREGORIAN
METHOD:PUBLISH
X-WR-CALNAME:DOH Pharmaceutical Division
X-ORIGINAL-URL:https://pharma.doh.gov.ph
X-WR-CALDESC:Events for DOH Pharmaceutical Division
BEGIN:VTIMEZONE
TZID:Asia/Shanghai
BEGIN:STANDARD
TZOFFSETFROM:+0800
TZOFFSETTO:+0800
TZNAME:CST
DTSTART:20200101T000000
END:STANDARD
END:VTIMEZONE
BEGIN:VEVENT
DTSTART;TZID=Asia/Shanghai:20201217T090000
DTEND;TZID=Asia/Shanghai:20201217T130000
DTSTAMP:20201229T200154
CREATED:20201207T023525Z
LAST-MODIFIED:20201207T025515Z
UID:1620-1608195600-1608210000@pharma.doh.gov.ph
SUMMARY:12th Policy Dialogue on Universal Healthcare and Access to Medicines
DESCRIPTION:
URL:https://pharma.doh.gov.ph/event/12th-policy-dialogue-on-universal-healthcare-and-access-to-medicines/
END:VEVENT
END:VCALENDAR