BEGIN:VCALENDAR
VERSION:2.0
PRODID:-//DOH Pharmaceutical Division - ECPv5.3.0//NONSGML v1.0//EN
CALSCALE:GREGORIAN
METHOD:PUBLISH
X-WR-CALNAME:DOH Pharmaceutical Division
X-ORIGINAL-URL:https://pharma.doh.gov.ph
X-WR-CALDESC:Events for DOH Pharmaceutical Division
BEGIN:VTIMEZONE
TZID:Asia/Shanghai
BEGIN:STANDARD
TZOFFSETFROM:+0800
TZOFFSETTO:+0800
TZNAME:CST
DTSTART:20200101T000000
END:STANDARD
END:VTIMEZONE
BEGIN:VEVENT
DTSTART;TZID=Asia/Shanghai:20201222T100000
DTEND;TZID=Asia/Shanghai:20201222T110000
DTSTAMP:20201229T201155
CREATED:20201218T065638Z
LAST-MODIFIED:20201218T065638Z
UID:1690-1608631200-1608634800@pharma.doh.gov.ph
SUMMARY:Digital Learning 101 Webinar
DESCRIPTION:
URL:https://pharma.doh.gov.ph/event/digital-learning-101-webinar/
LOCATION:Zoom\, Philippines
END:VEVENT
END:VCALENDAR